BEGIN:VCALENDAR
VERSION:2.0
PRODID:-//ddaysoftware.com//NONSGML DDay.iCal 1.0//EN
BEGIN:VTIMEZONE
TZID:W. Europe Standard Time
BEGIN:STANDARD
DTSTART:20251002T030000
RRULE:FREQ=YEARLY;BYDAY=-1SU;BYHOUR=3;BYMINUTE=0;BYMONTH=10
TZNAME:Mitteleuropäische Zeit
TZOFFSETFROM:+0200
TZOFFSETTO:+0100
END:STANDARD
BEGIN:DAYLIGHT
DTSTART:20250301T020000
RRULE:FREQ=YEARLY;BYDAY=-1SU;BYHOUR=2;BYMINUTE=0;BYMONTH=3
TZNAME:Mitteleuropäische Sommerzeit
TZOFFSETFROM:+0100
TZOFFSETTO:+0200
END:DAYLIGHT
END:VTIMEZONE
BEGIN:VEVENT
CATEGORIES:Konzert
DESCRIPTION:"In the first sound" - Frühwerke für Klaviertrio mit Barbara Sc
 herbel\, D. Preimesberger und K. Kämper\n\nhttps://www.landkreis-kronach.d
 e/aktuelles/kulturkalender/vhs-musikring-14/
DTEND:20270320T203000
DTSTAMP:20260423T164137Z
DTSTART:20270320T193000
LOCATION:Kronach\, Kreiskulturraum: Siechenangerstr. 13\, 96317 Kronach
SEQUENCE:0
SUMMARY:vh-Musikring - Klavierkonzert
UID:76934
URL:https://www.landkreis-kronach.de/aktuelles/kulturkalender/vhs-musikring
 -14/
END:VEVENT
END:VCALENDAR
