BEGIN:VCALENDAR
VERSION:2.0
PRODID:-//ddaysoftware.com//NONSGML DDay.iCal 1.0//EN
BEGIN:VTIMEZONE
TZID:W. Europe Standard Time
BEGIN:STANDARD
DTSTART:20251002T030000
RRULE:FREQ=YEARLY;BYDAY=-1SU;BYHOUR=3;BYMINUTE=0;BYMONTH=10
TZNAME:Mitteleuropäische Zeit
TZOFFSETFROM:+0200
TZOFFSETTO:+0100
END:STANDARD
BEGIN:DAYLIGHT
DTSTART:20250301T020000
RRULE:FREQ=YEARLY;BYDAY=-1SU;BYHOUR=2;BYMINUTE=0;BYMONTH=3
TZNAME:Mitteleuropäische Sommerzeit
TZOFFSETFROM:+0100
TZOFFSETTO:+0200
END:DAYLIGHT
END:VTIMEZONE
BEGIN:VEVENT
CATEGORIES:Theater
DESCRIPTION:Nach vier Jahren Spielpause laden die Theaterfreunde Wallenfels
  auf die Naturbühne „Kümmelswiese“ in Wallenfels am Schlossberg ein. Unter
  der Regie von Gisela Düthorn wird die Komödie „Ein Guru für Do-Ping“ von 
 Andreas Wening präsentiert.\nZum Inhalt: Die Welt von Kfz-Meister\nGünther
  Pöppel (Udo Schlee) ist in Ordnung - \nLehrling Roland Braus (Andreas Gle
 ich)\nunterstützt ihn im Betrieb\,  Tochter Sandra (Carolin Michel) ist se
 in ganzer Stolz und zwischendurch gibt es kleinere Ehestreitereien mit sei
 ner Frau Resi (Gaby Stöcker). Doch dann sorgt in der Werkstatt das Erschei
 nen zweier asiatischer Mönche aus Do-Ping (Markus Haderdauer und Fabian Sc
 hlee) für große Verwirrung. Sie behaupten\, das Plem-Plem-Orakel im Garten
  ihres Sushi-Klosters habe Günther Pöppel als den nächsten Guru ihrer Brud
 erschaft bestimmt.\nDieser beginnt sich in seiner Rolle als Guru wohlzufüh
 len und erfindet neue „spirituelle Rituale“. Die darüber erboste Gemeindes
 chwester Dorothea Engel (Sabrina Heibl) und die kampferprobte Sektenbeauft
 ragte Dr. Gerlinde Stopfkuchen (Kerstin Haderdauer) wollen daraufhin dem s
 elbstherrlichen Treiben von Günther ein Ende bereiten.\nFür Turbulenzen so
 rgen zudem Verwandtschaft und Freunde: die verbiesterte Schwägerin Edda Kr
 autwurst (Birgit Brehl)\, deren verschollener Verlobte Franz Schwellnuss (
 Engelbert Stadelmann) und der leicht unterbelichtete Freund Michel Möhrens
 chläger (Henry Stöcker).\n\nhttps://www.landkreis-kronach.de/aktuelles/kul
 turkalender/theater-7/
DTEND:20230624T200000
DTSTAMP:20260423T224330Z
DTSTART:20230624T190000
LOCATION:Wallenfels\, Kümmelswiese
SEQUENCE:0
SUMMARY:"Ein Guru für Do-Ping" Theateraufführung mit den Theaterfreunden Wa
 llenfels
UID:61289
URL:https://www.landkreis-kronach.de/aktuelles/kulturkalender/theater-7/
END:VEVENT
END:VCALENDAR
