BEGIN:VCALENDAR
VERSION:2.0
PRODID:-//ddaysoftware.com//NONSGML DDay.iCal 1.0//EN
BEGIN:VTIMEZONE
TZID:W. Europe Standard Time
BEGIN:STANDARD
DTSTART:20251002T030000
RRULE:FREQ=YEARLY;BYDAY=-1SU;BYHOUR=3;BYMINUTE=0;BYMONTH=10
TZNAME:Mitteleuropäische Zeit
TZOFFSETFROM:+0200
TZOFFSETTO:+0100
END:STANDARD
BEGIN:DAYLIGHT
DTSTART:20250301T020000
RRULE:FREQ=YEARLY;BYDAY=-1SU;BYHOUR=2;BYMINUTE=0;BYMONTH=3
TZNAME:Mitteleuropäische Sommerzeit
TZOFFSETFROM:+0100
TZOFFSETTO:+0200
END:DAYLIGHT
END:VTIMEZONE
BEGIN:VEVENT
CATEGORIES:Konzert
DESCRIPTION:Gleich vier Bands der lokalen und überregionalen Metalszene geb
 en sich die Klinke beim „Noisy Province Metalfest“ in die Hand.\n„Aimless 
 Death“ aus Kulmbach sind die Headliner des Abends. Mit dem Gewinn des „Fes
 tung Rockt“-Bandcontests im Jahr 2024 setzte die Band ein großes Ausrufeze
 ichen und begeisterte das Publikum durch ihren harten Sound sowie den toll
 en und ausdrucksstarken Sänger.\nDie Band „Verderbnis“ aus Kassel bietet m
 elodischen Black Metal\, während „Needle“ aus Nürnberg mit eher groovigem 
 Metal durch die Underground-Szene touren. Opener des Abends ist die Band „
 Offended by Cellar“\, eine Thrash- und Deathmetalband aus Lichtenfels.\nDa
 s „Noisy Province Metalfest“ findet erstmals in Kronach statt\, nachdem es
  zuvor zum Beispiel schon in Lichtenfels stattgefunden hatte.\n\nhttps://w
 ww.landkreis-kronach.de/aktuelles/kulturkalender/struwwel/
DTEND:20250111T210000
DTSTAMP:20260421T083928Z
DTSTART:20250111T200000
LOCATION:Kronach\, Struwwelpeter: Rodacher Straße\, 96317 Kronach
SEQUENCE:0
SUMMARY:Konzert 
UID:70517
URL:https://www.landkreis-kronach.de/aktuelles/kulturkalender/struwwel/
END:VEVENT
END:VCALENDAR
