BEGIN:VCALENDAR
VERSION:2.0
PRODID:-//ddaysoftware.com//NONSGML DDay.iCal 1.0//EN
BEGIN:VTIMEZONE
TZID:W. Europe Standard Time
BEGIN:STANDARD
DTSTART:20251002T030000
RRULE:FREQ=YEARLY;BYDAY=-1SU;BYHOUR=3;BYMINUTE=0;BYMONTH=10
TZNAME:Mitteleuropäische Zeit
TZOFFSETFROM:+0200
TZOFFSETTO:+0100
END:STANDARD
BEGIN:DAYLIGHT
DTSTART:20250301T020000
RRULE:FREQ=YEARLY;BYDAY=-1SU;BYHOUR=2;BYMINUTE=0;BYMONTH=3
TZNAME:Mitteleuropäische Sommerzeit
TZOFFSETFROM:+0100
TZOFFSETTO:+0200
END:DAYLIGHT
END:VTIMEZONE
BEGIN:VEVENT
CATEGORIES:Konzert
DESCRIPTION:Freuen Sie sich auf einen Abend voller Emotionen und unvergessl
 icher Rockklassiker.\n\nEin Streichquartett präsentiert die größten Hits l
 egendärer Bands wie Queen\, Metallica\, Nirvana\, Rammstein\, Guns N’ Rose
 s\, Led Zeppelin\, Pink Floyd\, Deep Purple\, Bon Jovi und viele weitere –
  in gefühlvollen\, kammermusikalischen Arrangements. Begleitet vom sanften
  Schein hunderter Kerzen entsteht eine einzigartige Atmosphäre\, die unter
  die Haut geht.\n\nDieses Konzert ist weit mehr als nur Musik – es ist ein
 e Reise durch die Geschichte des Rock\, voller Gefühl\, Gänsehaut und Nost
 algie.\n\nEin magischer Abend\, den Sie nicht verpassen sollten!\n\nhttps:
 //www.landkreis-kronach.de/aktuelles/kulturkalender/streichquartett/
DTEND:20261115T200000
DTSTAMP:20260419T185901Z
DTSTART:20261115T190000
LOCATION:Kronach\, Kreiskulturraum: Siechenangerstr. 13\, 96317 Kronach
SEQUENCE:0
SUMMARY:Rockballaden bei Kerzenschein
UID:76332
URL:https://www.landkreis-kronach.de/aktuelles/kulturkalender/streichquarte
 tt/
END:VEVENT
END:VCALENDAR
