BEGIN:VCALENDAR
VERSION:2.0
PRODID:-//ddaysoftware.com//NONSGML DDay.iCal 1.0//EN
BEGIN:VTIMEZONE
TZID:W. Europe Standard Time
BEGIN:STANDARD
DTSTART:20251002T030000
RRULE:FREQ=YEARLY;BYDAY=-1SU;BYHOUR=3;BYMINUTE=0;BYMONTH=10
TZNAME:Mitteleuropäische Zeit
TZOFFSETFROM:+0200
TZOFFSETTO:+0100
END:STANDARD
BEGIN:DAYLIGHT
DTSTART:20250301T020000
RRULE:FREQ=YEARLY;BYDAY=-1SU;BYHOUR=2;BYMINUTE=0;BYMONTH=3
TZNAME:Mitteleuropäische Sommerzeit
TZOFFSETFROM:+0100
TZOFFSETTO:+0200
END:DAYLIGHT
END:VTIMEZONE
BEGIN:VEVENT
CATEGORIES:Konzert
DESCRIPTION:"Zeitreise Beethoven - Inspiration Mondscheinserenade"\nmit Wer
 ken von  \nFelix Mendelssohn Bartholdy (1809-1847) - Fantasie für Klavier 
 fis-Moll - Sonata écossaise (Scottish sonata) op. 28 **\nLudwig van Beetho
 vens (1770-1827)  - Klaviersonate "Quasi una Fantasia" Nr. 14 in cis-Moll 
 op. 27\,5**\nKlaviersonate "Quasi una Fantasia" Nr. 14 (D-Dur - d-Moll) Un
 V 12**\nFranz Schubert (1797-1828) - Fantasie C-Dur\, op. 15 D 760 „Wander
 er-Fantasie“ (1822)\n\nhttps://www.landkreis-kronach.de/aktuelles/kulturka
 lender/mitwitzer-schlosskonzert-4/
DTEND:20230917T193000
DTSTAMP:20260420T231226Z
DTSTART:20230917T183000
LOCATION:Mitwitz\, Wasserschloss: Unteres Schloss\, 96268 Mitwitz
SEQUENCE:0
SUMMARY:Mitwitzer Schlosskonzert  - Pianist Maximilian Schairer
UID:60575
URL:https://www.landkreis-kronach.de/aktuelles/kulturkalender/mitwitzer-sch
 losskonzert-4/
END:VEVENT
END:VCALENDAR
