BEGIN:VCALENDAR
VERSION:2.0
PRODID:-//ddaysoftware.com//NONSGML DDay.iCal 1.0//EN
BEGIN:VTIMEZONE
TZID:W. Europe Standard Time
BEGIN:STANDARD
DTSTART:20251002T030000
RRULE:FREQ=YEARLY;BYDAY=-1SU;BYHOUR=3;BYMINUTE=0;BYMONTH=10
TZNAME:Mitteleuropäische Zeit
TZOFFSETFROM:+0200
TZOFFSETTO:+0100
END:STANDARD
BEGIN:DAYLIGHT
DTSTART:20250301T020000
RRULE:FREQ=YEARLY;BYDAY=-1SU;BYHOUR=2;BYMINUTE=0;BYMONTH=3
TZNAME:Mitteleuropäische Sommerzeit
TZOFFSETFROM:+0100
TZOFFSETTO:+0200
END:DAYLIGHT
END:VTIMEZONE
BEGIN:VEVENT
CATEGORIES:Ausstellungen
DESCRIPTION:„Was uns verbindet“\, ist das Thema einer Wanderausstellung im 
 Klöppelmuseum in Nordhalben. Janika Sprunk hat mit Verbündeten aus dem Erz
 gebirge ein Projekt ins Leben gerufen\, das den Gemeinsinn von Klöpplerinn
 en in ganz Deutschland zeigt. Hierbei wird auch eine Verbundenheit mit ver
 gangenen Zeiten sowie zwischen Ost- und Westdeutschland präsentiert.\nDass
  das Klöppeln eine Zukunft hat\, ist für alle eine Herzenssache – egal ob 
 es die Weitergabe von Wissen ist oder den Entwurf neuer Muster. Neben den 
 altbewährten Spitzen wurden in den Vitrinen und an den Ausstellungswänden 
 auch zeitlose und hochfiligrane Handarbeiten gezeigt. Ein besonderer Hingu
 cker waren die geschaffenen Herzen. Dabei zeigten die Klöpplerinnen\, wie 
 das Herz mit Fäden den bisherige „Klöppelweg“ aufgezeichnet hat.\nEine Aus
 stellung auf einer „Baustelle“ sei was Besonderes - so 2. Bürgermeister Mi
 chael Wunder.\n\nhttps://www.landkreis-kronach.de/aktuelles/kulturkalender
 /kloeppel-ausstellung/
DTEND:20261025T123000
DTSTAMP:20260425T010714Z
DTSTART:20260315T093000
LOCATION:Nordhalben\, DAS Klöppelmuseum: Klöppelschule 4\, 96365 Nordhalben
SEQUENCE:0
SUMMARY:„Was uns verbindet“ - Wanderausstellung
UID:76381
URL:https://www.landkreis-kronach.de/aktuelles/kulturkalender/kloeppel-auss
 tellung/
END:VEVENT
END:VCALENDAR
