BEGIN:VCALENDAR
VERSION:2.0
PRODID:-//ddaysoftware.com//NONSGML DDay.iCal 1.0//EN
BEGIN:VTIMEZONE
TZID:W. Europe Standard Time
BEGIN:STANDARD
DTSTART:20251002T030000
RRULE:FREQ=YEARLY;BYDAY=-1SU;BYHOUR=3;BYMINUTE=0;BYMONTH=10
TZNAME:Mitteleuropäische Zeit
TZOFFSETFROM:+0200
TZOFFSETTO:+0100
END:STANDARD
BEGIN:DAYLIGHT
DTSTART:20250301T020000
RRULE:FREQ=YEARLY;BYDAY=-1SU;BYHOUR=2;BYMINUTE=0;BYMONTH=3
TZNAME:Mitteleuropäische Sommerzeit
TZOFFSETFROM:+0100
TZOFFSETTO:+0200
END:DAYLIGHT
END:VTIMEZONE
BEGIN:VEVENT
CATEGORIES:Konzert
DESCRIPTION:Open Air mit der Deutschrock-Band "BLAUBART"  // Im August 2024
  begann für Tom (Thomas Burkert-Mazur) und\nHolger (Holger Schmitt)\, zwei
  ehemalige Mitglieder einer Kronacher Band\, ein neues Kapitel. Ein entsch
 eidendes\nPuzzleteil in der Band fehlte: ein Drummer. Gitarre\, Bass und G
 esang waren bereits gesetzt\, doch ein Taktgeber ließ auf sich warten. Die
  Suche führte sie zu Toms altem Schulfreund Stefan Blinzler\, besser bekan
 nt als Blitz. Kaum setzte Blitz sich an die Drums im Proberaum\, sprühten 
 die Funken - kraftvolle deutsche Texte und ein Sound\, der sich mutig zwis
 chen Deutschrock\, Metal\, Punk\, Neuer Deutscher Härte und Independent be
 wegt - BLAUBART war geboren – und mit ihm eine\nBand\, die bereit war\, di
 e Bühnen zu erobern.\n\nhttps://www.landkreis-kronach.de/aktuelles/kulturk
 alender/benefizveranstaltung/
DTEND:20260725T200000
DTSTAMP:20260423T163931Z
DTSTART:20260725T190000
LOCATION:Kronach\, Seebühne im Landesgartenschaupark: Pfählangerstr.\, 9631
 7 Kronach
SEQUENCE:0
SUMMARY:1000 Herzen  - Live-Konzert - Open-Air - 
UID:76937
URL:https://www.landkreis-kronach.de/aktuelles/kulturkalender/benefizverans
 taltung/
END:VEVENT
END:VCALENDAR
